BEGIN:VCALENDAR
VERSION:2.0
PRODID:-//Experience Akwesasne - ECPv6.15.11//NONSGML v1.0//EN
CALSCALE:GREGORIAN
METHOD:PUBLISH
X-ORIGINAL-URL:https://akwesasne.travel
X-WR-CALDESC:Events for Experience Akwesasne
REFRESH-INTERVAL;VALUE=DURATION:PT1H
X-Robots-Tag:noindex
X-PUBLISHED-TTL:PT1H
BEGIN:VTIMEZONE
TZID:UTC
BEGIN:STANDARD
TZOFFSETFROM:+0000
TZOFFSETTO:+0000
TZNAME:UTC
DTSTART:20240101T000000
END:STANDARD
END:VTIMEZONE
BEGIN:VTIMEZONE
TZID:America/New_York
BEGIN:DAYLIGHT
TZOFFSETFROM:-0500
TZOFFSETTO:-0400
TZNAME:EDT
DTSTART:20240310T070000
END:DAYLIGHT
BEGIN:STANDARD
TZOFFSETFROM:-0400
TZOFFSETTO:-0500
TZNAME:EST
DTSTART:20241103T060000
END:STANDARD
BEGIN:DAYLIGHT
TZOFFSETFROM:-0500
TZOFFSETTO:-0400
TZNAME:EDT
DTSTART:20250309T070000
END:DAYLIGHT
BEGIN:STANDARD
TZOFFSETFROM:-0400
TZOFFSETTO:-0500
TZNAME:EST
DTSTART:20251102T060000
END:STANDARD
BEGIN:DAYLIGHT
TZOFFSETFROM:-0500
TZOFFSETTO:-0400
TZNAME:EDT
DTSTART:20260308T070000
END:DAYLIGHT
BEGIN:STANDARD
TZOFFSETFROM:-0400
TZOFFSETTO:-0500
TZNAME:EST
DTSTART:20261101T060000
END:STANDARD
END:VTIMEZONE
BEGIN:VEVENT
DTSTART;TZID=UTC:20251011T100000
DTEND;TZID=UTC:20251011T140000
DTSTAMP:20260422T154310
CREATED:20251008T193329Z
LAST-MODIFIED:20251008T193329Z
UID:10001361-1760176800-1760191200@akwesasne.travel
SUMMARY:Harvest Festival
DESCRIPTION:Celebrate fall Harvest Fest\, presented by Akwesasne Farmers Market! Join the fun at Generations Park in Akwesasne. Enjoy games\, treats\, live music\, cider pressing\, and vendors!
URL:https://akwesasne.travel/event/harvest-festival/
CATEGORIES:Food,General Events
ATTACH;FMTTYPE=image/jpeg:https://akwesasne.travel/wp-content/uploads/2025/10/AFM-Harvest-Fest.jpg
ORGANIZER;CN="Akwesasne Farmers Market":MAILTO:Akwesasnefarmersmarket@gmail.com
END:VEVENT
BEGIN:VEVENT
DTSTART;VALUE=DATE:20250906
DTEND;VALUE=DATE:20250908
DTSTAMP:20260422T154310
CREATED:20250327T145243Z
LAST-MODIFIED:20250430T172947Z
UID:10001092-1757116800-1757289599@akwesasne.travel
SUMMARY:Akwesasne International Powwow
DESCRIPTION:On the shores by the beautiful St. Lawrence River\, visitors can enjoy a two day event with good music\, good food and good company on September 6-7. 2025. The Akwesasne Powwow brings together the best Native artisans\, drummers and dancers from this region.
URL:https://akwesasne.travel/event/akwesasne-international-powwow/
CATEGORIES:Cultural,Food,General Events
ATTACH;FMTTYPE=image/jpeg:https://akwesasne.travel/wp-content/uploads/2025/03/Powwow-2025.jpg
END:VEVENT
BEGIN:VEVENT
DTSTART;TZID=UTC:20250607T100000
DTEND;TZID=UTC:20250607T140000
DTSTAMP:20260422T154310
CREATED:20250530T155249Z
LAST-MODIFIED:20251008T192252Z
UID:10001221-1749290400-1749304800@akwesasne.travel
SUMMARY:Akwesasne Farmers Market
DESCRIPTION:Visit the Akwesasne Farmers Market at Generations Park every Saturday throughout the summer for locally grown foods\, fresh produce\, food\, drinks\, and artisans! Get to know your local food producers and makers.
URL:https://akwesasne.travel/event/akwesasne-farmers-market/
LOCATION:Generations Park
CATEGORIES:Food,General Events
ATTACH;FMTTYPE=image/jpeg:https://akwesasne.travel/wp-content/uploads/2025/05/AFM.jpg
ORGANIZER;CN="Akwesasne Farmers Market":MAILTO:Akwesasnefarmersmarket@gmail.com
END:VEVENT
BEGIN:VEVENT
DTSTART;TZID=UTC:20250406T110000
DTEND;TZID=UTC:20250406T170000
DTSTAMP:20260422T154310
CREATED:20250327T040930Z
LAST-MODIFIED:20250404T201719Z
UID:10001080-1743937200-1743958800@akwesasne.travel
SUMMARY:Spring Vendor Market
DESCRIPTION:Enjoy a wide variety of items from local vendors offering everything from fine art\, jewelry\, crafts\, health & wellness\, food and more!
URL:https://akwesasne.travel/event/spring-vendor-market/
LOCATION:Akwesasne Mohawk Casino Resort\, 873 NY-37\, Hogansburg\, NY\, 13655\, United States
CATEGORIES:Art,Food
ATTACH;FMTTYPE=image/jpeg:https://akwesasne.travel/wp-content/uploads/2025/03/springmarket_v2_1920x600.jpg
END:VEVENT
END:VCALENDAR